BEGIN:VCALENDAR
VERSION:2.0
PRODID:-//Ligue des voisins du Manoir des Trembles - ECPv6.15.20//NONSGML v1.0//EN
CALSCALE:GREGORIAN
METHOD:PUBLISH
X-WR-CALNAME:Ligue des voisins du Manoir des Trembles
X-ORIGINAL-URL:https://manoirdestrembles.ca
X-WR-CALDESC:Évènements pour Ligue des voisins du Manoir des Trembles
REFRESH-INTERVAL;VALUE=DURATION:PT1H
X-Robots-Tag:noindex
X-PUBLISHED-TTL:PT1H
BEGIN:VTIMEZONE
TZID:America/Toronto
BEGIN:DAYLIGHT
TZOFFSETFROM:-0500
TZOFFSETTO:-0400
TZNAME:EDT
DTSTART:20230312T070000
END:DAYLIGHT
BEGIN:STANDARD
TZOFFSETFROM:-0400
TZOFFSETTO:-0500
TZNAME:EST
DTSTART:20231105T060000
END:STANDARD
BEGIN:DAYLIGHT
TZOFFSETFROM:-0500
TZOFFSETTO:-0400
TZNAME:EDT
DTSTART:20240310T070000
END:DAYLIGHT
BEGIN:STANDARD
TZOFFSETFROM:-0400
TZOFFSETTO:-0500
TZNAME:EST
DTSTART:20241103T060000
END:STANDARD
BEGIN:DAYLIGHT
TZOFFSETFROM:-0500
TZOFFSETTO:-0400
TZNAME:EDT
DTSTART:20250309T070000
END:DAYLIGHT
BEGIN:STANDARD
TZOFFSETFROM:-0400
TZOFFSETTO:-0500
TZNAME:EST
DTSTART:20251102T060000
END:STANDARD
END:VTIMEZONE
BEGIN:VEVENT
DTSTART;TZID=America/Toronto:20240825T100000
DTEND;TZID=America/Toronto:20240825T140000
DTSTAMP:20260423T023236
CREATED:20240702T125859Z
LAST-MODIFIED:20240817T194523Z
UID:3159-1724580000-1724594400@manoirdestrembles.ca
SUMMARY:Épluchette de blé d’inde 2024
DESCRIPTION:L’épluchette de blé d’inde annuelle du Manoir des Trembles aura lieu le dimanche 25 août 2024\, de 10h à 14h au parc des Trembles.\nCet événement est une occasion privilégiée de rassembler notre communauté et de renforcer le sentiment d’appartenance à notre quartier.\n  \nNous en profiterons pour inaugurer le Panneau d’interprétation des milieux naturels du Manoir des Trembles.\n\nCe panneau met en valeur les milieux naturels de notre quartier\, en soulignant leur importance pour la biodiversité et la régulation de l’eau. Cette inauguration marque notre engagement envers la préservation de ces espaces vitaux et notre désir de sensibiliser la communauté à leur valeur.\n\n\n\n  \n\n\n\n\n\n\n\n\n\nAu programme :\n\n\n10h00 : Inauguration du Panneau d’interprétation des milieux naturels.\n10h30 : Épluchage de blé d’inde entre voisins. (beau temps\, mauvais temps: en cas le pluie le centre sera ouvert pour la portion épluchette de la journée).\n\n\nÉgalement sur place :\n\nStructure gonflable pour les petits.\nMusique et chansonnier.\nCollecte de styromousse.\nDémonstration de karaté.\n\n\n\n\n  \nEn plus de l’épluchette\, nous souhaitons rendre l’évènement festif et artistique. Vous êtes un artisan ou un entrepreneur du Manoir des Trembles et vous souhaitez vous faire connaître auprès des résidents? Écrivez-nous assolvmdt@gmail.com\n\n\n\nVous souhaitez vous impliquer et rendre ce moment mémorable? Nous sommes toujours heureux d’accueillir de nouveaux bénévoles! Écrivez-nous assolvmdt@gmail.com\n\n\n\n  \nAu plaisir de vous voir\,\n\nLa Ligue des voisins du Manoir des Trembles
URL:https://manoirdestrembles.ca/evenement/epluchette-de-ble-dinde-3/
LOCATION:Centre communautaire des Trembles\, 150 boulevard des Trembles\, Gatineau\, Québec\, J9A 2C2\, Canada
CATEGORIES:Activité de la Ligue des voisins,Événement communautaire
ATTACH;FMTTYPE=image/png:https://manoirdestrembles.ca/wp-content/uploads/2024/07/LVMDT-Epluchette-Couverture-Facebook-1.png
ORGANIZER;CN="Ligue des voisins du Manoir-des-Trembles":MAILTO:assolvmdt@gmail.com
END:VEVENT
END:VCALENDAR