BEGIN:VCALENDAR
VERSION:2.0
PRODID:-//Ligue des voisins du Manoir des Trembles - ECPv6.15.20//NONSGML v1.0//EN
CALSCALE:GREGORIAN
METHOD:PUBLISH
X-WR-CALNAME:Ligue des voisins du Manoir des Trembles
X-ORIGINAL-URL:https://manoirdestrembles.ca
X-WR-CALDESC:Évènements pour Ligue des voisins du Manoir des Trembles
REFRESH-INTERVAL;VALUE=DURATION:PT1H
X-Robots-Tag:noindex
X-PUBLISHED-TTL:PT1H
BEGIN:VTIMEZONE
TZID:America/Toronto
BEGIN:DAYLIGHT
TZOFFSETFROM:-0500
TZOFFSETTO:-0400
TZNAME:EDT
DTSTART:20230312T070000
END:DAYLIGHT
BEGIN:STANDARD
TZOFFSETFROM:-0400
TZOFFSETTO:-0500
TZNAME:EST
DTSTART:20231105T060000
END:STANDARD
BEGIN:DAYLIGHT
TZOFFSETFROM:-0500
TZOFFSETTO:-0400
TZNAME:EDT
DTSTART:20240310T070000
END:DAYLIGHT
BEGIN:STANDARD
TZOFFSETFROM:-0400
TZOFFSETTO:-0500
TZNAME:EST
DTSTART:20241103T060000
END:STANDARD
BEGIN:DAYLIGHT
TZOFFSETFROM:-0500
TZOFFSETTO:-0400
TZNAME:EDT
DTSTART:20250309T070000
END:DAYLIGHT
BEGIN:STANDARD
TZOFFSETFROM:-0400
TZOFFSETTO:-0500
TZNAME:EST
DTSTART:20251102T060000
END:STANDARD
END:VTIMEZONE
BEGIN:VEVENT
DTSTART;TZID=America/Toronto:20240825T103000
DTEND;TZID=America/Toronto:20240825T133000
DTSTAMP:20260423T030149
CREATED:20240815T013921Z
LAST-MODIFIED:20240817T194513Z
UID:3210-1724581800-1724592600@manoirdestrembles.ca
SUMMARY:Collecte de styromousse - août 2024
DESCRIPTION:Nous profiterons de L’épluchette de blé d’inde annuelle pour faire une collecte de styromousse. \nApportez votre styromousse propre au Centre communautaire des Trembles\, 150 boulevard des Trembles et profitez-en pour discuter avec vos voisins entre deux bouchées de maïs ! \n 
URL:https://manoirdestrembles.ca/evenement/collecte-de-styromousse-aout-2024/
LOCATION:Centre communautaire des Trembles\, 150 boulevard des Trembles\, Gatineau\, Québec\, J9A 2C2\, Canada
CATEGORIES:Activité de la Ligue des voisins,Environnement,Événement communautaire
ATTACH;FMTTYPE=image/jpeg:https://manoirdestrembles.ca/wp-content/uploads/2024/08/Collecte-de-styromousse.jpg
ORGANIZER;CN="Ligue des voisins du Manoir-des-Trembles":MAILTO:assolvmdt@gmail.com
END:VEVENT
END:VCALENDAR