BEGIN:VCALENDAR
VERSION:2.0
PRODID:-//Ligue des voisins du Manoir des Trembles - ECPv6.15.20//NONSGML v1.0//EN
CALSCALE:GREGORIAN
METHOD:PUBLISH
X-ORIGINAL-URL:https://manoirdestrembles.ca
X-WR-CALDESC:Évènements pour Ligue des voisins du Manoir des Trembles
REFRESH-INTERVAL;VALUE=DURATION:PT1H
X-Robots-Tag:noindex
X-PUBLISHED-TTL:PT1H
BEGIN:VTIMEZONE
TZID:America/Toronto
BEGIN:DAYLIGHT
TZOFFSETFROM:-0500
TZOFFSETTO:-0400
TZNAME:EDT
DTSTART:20240310T070000
END:DAYLIGHT
BEGIN:STANDARD
TZOFFSETFROM:-0400
TZOFFSETTO:-0500
TZNAME:EST
DTSTART:20241103T060000
END:STANDARD
BEGIN:DAYLIGHT
TZOFFSETFROM:-0500
TZOFFSETTO:-0400
TZNAME:EDT
DTSTART:20250309T070000
END:DAYLIGHT
BEGIN:STANDARD
TZOFFSETFROM:-0400
TZOFFSETTO:-0500
TZNAME:EST
DTSTART:20251102T060000
END:STANDARD
BEGIN:DAYLIGHT
TZOFFSETFROM:-0500
TZOFFSETTO:-0400
TZNAME:EDT
DTSTART:20260308T070000
END:DAYLIGHT
BEGIN:STANDARD
TZOFFSETFROM:-0400
TZOFFSETTO:-0500
TZNAME:EST
DTSTART:20261101T060000
END:STANDARD
END:VTIMEZONE
BEGIN:VEVENT
DTSTART;TZID=America/Toronto:20251129T090000
DTEND;TZID=America/Toronto:20251129T150000
DTSTAMP:20260423T113120
CREATED:20250930T185404Z
LAST-MODIFIED:20251110T162007Z
UID:5028-1764406800-1764428400@manoirdestrembles.ca
SUMMARY:Marché de Noël du Manoir
DESCRIPTION:La Ligue des voisins et la résidence Chartwell Domaine des Trembles s’associent pour organiser leur tout premier Marché de Noël du Manoir!\n\n📅 Samedi 29 novembre 2025 – 9h à 15h\n📍 250 boulevard Saint-Raymond (Chartwell Domaine des Trembles)\n\nArtisans et artistes\, c’est votre chance de briller ✨!\n👉 Réservez votre table dès maintenant en communiquant avec Linda au 819-790-0663.
URL:https://manoirdestrembles.ca/evenement/marche-de-noel-du-manoir/
LOCATION:Chartwell Domaine des Trembles\, 250 boulevard Saint-Raymond\, Gatineau\, Canada
CATEGORIES:Événement communautaire,Initiative d'un voisin
ATTACH;FMTTYPE=image/png:https://manoirdestrembles.ca/wp-content/uploads/2025/09/Marche-des-artisans_Affiche-e1762791643947.png
END:VEVENT
END:VCALENDAR