BEGIN:VCALENDAR
VERSION:2.0
PRODID:-//Ligue des voisins du Manoir des Trembles - ECPv6.15.20//NONSGML v1.0//EN
CALSCALE:GREGORIAN
METHOD:PUBLISH
X-WR-CALNAME:Ligue des voisins du Manoir des Trembles
X-ORIGINAL-URL:https://manoirdestrembles.ca
X-WR-CALDESC:Évènements pour Ligue des voisins du Manoir des Trembles
REFRESH-INTERVAL;VALUE=DURATION:PT1H
X-Robots-Tag:noindex
X-PUBLISHED-TTL:PT1H
BEGIN:VTIMEZONE
TZID:America/Toronto
BEGIN:DAYLIGHT
TZOFFSETFROM:-0500
TZOFFSETTO:-0400
TZNAME:EDT
DTSTART:20240310T070000
END:DAYLIGHT
BEGIN:STANDARD
TZOFFSETFROM:-0400
TZOFFSETTO:-0500
TZNAME:EST
DTSTART:20241103T060000
END:STANDARD
BEGIN:DAYLIGHT
TZOFFSETFROM:-0500
TZOFFSETTO:-0400
TZNAME:EDT
DTSTART:20250309T070000
END:DAYLIGHT
BEGIN:STANDARD
TZOFFSETFROM:-0400
TZOFFSETTO:-0500
TZNAME:EST
DTSTART:20251102T060000
END:STANDARD
BEGIN:DAYLIGHT
TZOFFSETFROM:-0500
TZOFFSETTO:-0400
TZNAME:EDT
DTSTART:20260308T070000
END:DAYLIGHT
BEGIN:STANDARD
TZOFFSETFROM:-0400
TZOFFSETTO:-0500
TZNAME:EST
DTSTART:20261101T060000
END:STANDARD
END:VTIMEZONE
BEGIN:VEVENT
DTSTART;TZID=America/Toronto:20250308T130000
DTEND;TZID=America/Toronto:20250308T150000
DTSTAMP:20260424T004147
CREATED:20250213T200035Z
LAST-MODIFIED:20250214T123257Z
UID:3913-1741438800-1741446000@manoirdestrembles.ca
SUMMARY:Atelier de réparation de vêtements en tricots
DESCRIPTION:Offert par Marie Ève Gaudreau Lamarre \n  \nTon chandail de laine bien aimé a été attaqué par des mites ou est usé aux coudes? Tes bas sont troués? Tu veux apprendre à repriser tes vêtements pour combattre la culture de la mode éphémère?  Cet atelier est pour toi! \nDurant cet atelier d’introduction au reprisage de tricots d’une durée de 2 heures\, tu apprendras des techniques de raccommodage pour couvrir des trous ou taches avec des motifs décoratifs visibles. \n  \nQuand: Samedi 8 mars\, de 13h à 15h \nOù : Centre communautaire Des Trembles \nNiveau : débutant\, aucune notion de couture ou tricot nécessaire. \nMatériel à apporter (facultatif) – tout le matériel pourra t’être fourni sur place au besoin: \n\nVêtement en tricot en besoin de réparation.\nFil d’épaisseur similaire au vêtement.\nAiguille à coudre\, à broder ou à laine.\nCiseaux.\nChampignon à repriser (sinon une ampoule\, une louche ou une balle de tennis)\n\nGratuit\, inscription nécessaire pour assurer qu’assez de matériel soit préparé. Contacte Marie Ève à megaudreaulamarre@hotmail.com pour t’inscrire ou pour toute question. \nAu plaisir de donner une nouvelle vie à nos tricots ensembles!
URL:https://manoirdestrembles.ca/evenement/atelier-de-reparation-de-vetements-en-tricots/
LOCATION:Centre communautaire des Trembles\, 150 boulevard des Trembles\, Gatineau\, Québec\, J9A 2C2\, Canada
CATEGORIES:Événement communautaire,Initiative d'un voisin
ATTACH;FMTTYPE=image/jpeg:https://manoirdestrembles.ca/wp-content/uploads/2025/02/Collage-Reprisage_MEGL-scaled.jpg
ORGANIZER;CN="Marie %C3%88ve Gaudreau Lamarre":MAILTO:megaudreaulamarre@hotmail.com
END:VEVENT
END:VCALENDAR