BEGIN:VCALENDAR
VERSION:2.0
PRODID:-//Ligue des voisins du Manoir des Trembles - ECPv6.15.20//NONSGML v1.0//EN
CALSCALE:GREGORIAN
METHOD:PUBLISH
X-WR-CALNAME:Ligue des voisins du Manoir des Trembles
X-ORIGINAL-URL:https://manoirdestrembles.ca
X-WR-CALDESC:Évènements pour Ligue des voisins du Manoir des Trembles
REFRESH-INTERVAL;VALUE=DURATION:PT1H
X-Robots-Tag:noindex
X-PUBLISHED-TTL:PT1H
BEGIN:VTIMEZONE
TZID:America/New_York
BEGIN:DAYLIGHT
TZOFFSETFROM:-0500
TZOFFSETTO:-0400
TZNAME:EDT
DTSTART:20250309T070000
END:DAYLIGHT
BEGIN:STANDARD
TZOFFSETFROM:-0400
TZOFFSETTO:-0500
TZNAME:EST
DTSTART:20251102T060000
END:STANDARD
BEGIN:DAYLIGHT
TZOFFSETFROM:-0500
TZOFFSETTO:-0400
TZNAME:EDT
DTSTART:20260308T070000
END:DAYLIGHT
BEGIN:STANDARD
TZOFFSETFROM:-0400
TZOFFSETTO:-0500
TZNAME:EST
DTSTART:20261101T060000
END:STANDARD
BEGIN:DAYLIGHT
TZOFFSETFROM:-0500
TZOFFSETTO:-0400
TZNAME:EDT
DTSTART:20270314T070000
END:DAYLIGHT
BEGIN:STANDARD
TZOFFSETFROM:-0400
TZOFFSETTO:-0500
TZNAME:EST
DTSTART:20271107T060000
END:STANDARD
END:VTIMEZONE
BEGIN:VEVENT
DTSTART;TZID=America/New_York:20260424T100000
DTEND;TZID=America/New_York:20260424T120000
DTSTAMP:20260424T022555
CREATED:20260414T031808Z
LAST-MODIFIED:20260414T032337Z
UID:5916-1777024800-1777032000@manoirdestrembles.ca
SUMMARY:Halte allaitement et socialisation
DESCRIPTION:Vous êtes un nouveau parent et aimeriez obtenir du support avec l’allaitement\, peser vos bébés et rencontrer les parents du quartier tout en socialisant vos enfants?\nLes haltes allaitement sont des lieux de rencontres et d’échanges créés en partenariat avec Naissance-Renaissance Outaouais.  \nAu Chateau Monsarat\, 100 du Chateau
URL:https://manoirdestrembles.ca/evenement/halte-allaitement-et-socialisation-19/
LOCATION:Centre communautaire des Trembles\, 150 boulevard des Trembles\, Gatineau\, Québec\, J9A 2C2\, Canada
ORGANIZER;CN="Ligue des voisins du Manoir-des-Trembles":MAILTO:assolvmdt@gmail.com
END:VEVENT
BEGIN:VEVENT
DTSTART;TZID=America/New_York:20260424T170000
DTEND;TZID=America/New_York:20260424T180000
DTSTAMP:20260424T022555
CREATED:20260103T231805Z
LAST-MODIFIED:20260103T231805Z
UID:5426-1777050000-1777053600@manoirdestrembles.ca
SUMMARY:Vendredi - Essentrics pour tous avec Viviane
DESCRIPTION:Essentrics est un programme de renforcement par l’allongement musculaire. Le fait de les renforcer et les étirer simultanément permet le développement de muscles très flexibles.\nEssentrics a été élaboré pour sculpter le corps et allonger les jambes\, aplatir le ventre\, allonger le cou\, améliorer la posture\, ainsi qu’amincir les bras et la taille. Après quelques semaines d’entrainement\, on observe typiquement des changements dans la longueur et la forme de nos muscles. \nChaque classe d’Essentrics compose des mouvements de la vie quotidienne\, des mouvements circulaires qui couvrent nos articulations\, et des mouvements qui servent à étirer les fascias\, les tendons et les ligaments. Les résultats : moins de blessures lorsqu’on fait des mouvements exigeants\, la prévention de chutes et de problèmes d’équilibre\, moins de problèmes associés à une mauvaises posture\, et une légèreté de mouvement général.
URL:https://manoirdestrembles.ca/evenement/vendredi-essentrics-pour-tous-avec-viviane-39/
LOCATION:Centre communautaire des Trembles\, 150 boulevard des Trembles\, Gatineau\, Québec\, J9A 2C2\, Canada
ORGANIZER;CN="Ligue des voisins du Manoir-des-Trembles":MAILTO:assolvmdt@gmail.com
END:VEVENT
BEGIN:VEVENT
DTSTART;TZID=America/New_York:20260424T190000
DTEND;TZID=America/New_York:20260424T220000
DTSTAMP:20260424T022555
CREATED:20250904T200135Z
LAST-MODIFIED:20250904T200135Z
UID:4713-1777057200-1777068000@manoirdestrembles.ca
SUMMARY:Vendredis soirée jeux au centre communautaire
DESCRIPTION:En matière de jeu de société\, êtes-vous plus du genre Catan\, Pandémie\, Wingspan\,  Clank ou Avalon?\nLes vendredis\,  la Ligue des voisins convie les joueuses et joueurs du quartier à des soirées de jeux de société et de jeux de cartes. Tour à tour des animateurs feront découvrir ou redécouvrir des jeux de société\, parfois compétitifs\, parfois collaboratifs\, parfois sérieux\, parfois loufoques. \nQuand : vendredi soir à 19 h 00 du 5 septembre 2025 au 19 décembre 2025 et du 9 janvier 2026 au 26 juin 2026.\nOù : Centre communautaire des Trembles\nQui : Ados (13 ans et plus) et adultes.\nPourquoi : Pour le fun.\nPrécisions : Des animateurs (ados et adultes) proposeront un ou des jeux en fonction du nombre de personnes présentes. Vous pouvez apporter votre propre jeu si vous souhaitez le faire découvrir ou vous pouvez simplement apporter votre bonne humeur. Le premier jeu commence à 19h00\, puis d’autres jeux sont lancés en cours de soirée.
URL:https://manoirdestrembles.ca/evenement/vendredis-soiree-jeux-au-centre-communautaire-68/
LOCATION:Centre communautaire des Trembles\, 150 boulevard des Trembles\, Gatineau\, Québec\, J9A 2C2\, Canada
ORGANIZER;CN="Ligue des voisins du Manoir-des-Trembles":MAILTO:assolvmdt@gmail.com
END:VEVENT
END:VCALENDAR